BEGIN:VCALENDAR
VERSION:2.0
CALSCALE:GREGORIAN
PRODID:adamgibbons/ics
METHOD:PUBLISH
X-PUBLISHED-TTL:PT1H
BEGIN:VEVENT
UID:6018@lapunta.org
SUMMARY:Pasquat! Chiacchiera informativa su AHMAD SALEM + benefit spese leg
	ali
DTSTAMP:20260420T090025Z
DTSTART:20260404T153000Z
DTEND:20260404T220000Z
DESCRIPTION:Pasquat 04/04 Firenze\, via del leone 60/62\n\nH 17:30 chiacchi
	era sul processo di AHMAD SALEM\, ragazzo palestinese arrestato\nla scorsa
	 primavera dalla digos di Campobasso e tuttora detenuto nel carcere di\nRo
	ssano in Calabria\, in attesa di giudizio\, perché\, secondo le “autorità”
	\nitaliane\, alcuni contenuti presenti sul cellulare e diffusi online\,\nc
	onfigurerebbero una forma di incitamento alla violenza e di propaganda\n“e
	stremista e terrorista”.\n\nIl caso di Ahmad evidenzia\, per tutt noi un n
	odo centrale: le “autorità”\nitaliane agiscono sistematicamente violenza r
	azzista e islamofoba\, sfruttando\ngli strumenti sempre più sofisticati de
	lle repressione istituzionale.\n\nL’uso della detenzione preventiva in cas
	i come questo significa inviare un\nmessaggio chiaro: il dissenso diventa 
	pericoloso e la verità può essere\ncriminalizzata se mette in discussione 
	interessi di potere o alleanze politiche\,\nSOPRATTUTTO SE SEI UNA PERSONA
	 PALESTINESE\n\nrilanceremo anche la prossima udienza\, il 14 aprile a Cam
	pobasso\, per invitare\ntuttx a partecipare al presidio di solidarietà per
	 ahmad\n\nA seguire\n\nTroverai una cena vegana\, birrette\, musica\, dist
	ro e la possibilità di farti un\npiercing!!!! tutto BENEFIT spese legali c
	ompagnx molisanx denunciatx per\nmanifestazione non autorizzata durante un
	 saluto al carcere di Campobasso\n\nAHAMD LIBERO - TUTTX LIBERX
URL:https://lapunta.org/event/pasquat-chiacchiera-informativa-su-ahmad-sale
	m-benefit-spese-legali
LOCATION:Occupazione via del Leone - Via del Leone 60/62
STATUS:CONFIRMED
CATEGORIES:Ahmad salem,Anticarceraria,Firenze,Resistenza Palestinese,cena b
	enefit,free palestine,musica,occupazione via del leone,palestinalibera
X-ALT-DESC;FMTTYPE=text/html:<p>Pasquat 04/04 Firenze, via del leone 60/62 
	</p><p>H 17:30 chiacchiera sul processo di AHMAD SALEM, ragazzo palestines
	e arrestato la scorsa primavera dalla digos di Campobasso e tuttora detenu
	to nel carcere di Rossano in Calabria, in attesa di giudizio, perché, seco
	ndo le “autorità” italiane,  alcuni contenuti presenti sul cellulare e dif
	fusi online, configurerebbero una forma di incitamento alla violenza e di 
	propaganda “estremista e terrorista”. </p><p>Il caso di Ahmad evidenzia, p
	er tutt  noi un nodo centrale: le “autorità” italiane agiscono sistematica
	mente violenza razzista e islamofoba, sfruttando gli strumenti sempre più 
	sofisticati delle repressione istituzionale. </p><p>L’uso della detenzione
	 preventiva in casi come questo significa inviare un messaggio chiaro: il 
	dissenso diventa pericoloso e la verità può essere criminalizzata se mette
	 in discussione interessi di potere o alleanze politiche, SOPRATTUTTO SE S
	EI UNA PERSONA PALESTINESE </p><p>rilanceremo anche la prossima udienza, i
	l 14 aprile a Campobasso, per invitare tuttx a partecipare al presidio di 
	solidarietà per ahmad </p><p>A seguire</p><p>Troverai una cena vegana, bir
	rette, musica, distro e la possibilità di farti un piercing!!!! tutto BENE
	FIT spese legali compagnx molisanx denunciatx per manifestazione non autor
	izzata durante un saluto al carcere di Campobasso</p><p>AHAMD LIBERO - TUT
	TX LIBERX</p>
END:VEVENT
BEGIN:VEVENT
UID:5675@lapunta.org
SUMMARY:PRESIDIO DI SOLIDARIETÀ CON  ANAN YAEESH\, ALI IRAR E MANSOUR DOGHM
	OSH
DTSTAMP:20260420T090025Z
DTSTART:20251219T170000Z
URL:https://lapunta.org/event/presidio-di-solidarieta-con-anan-yaeesh-ali-i
	rar-e-mansour-doghmosh
LOCATION:Piazza XX settembre - Pisa
STATUS:CONFIRMED
CATEGORIES:Collettivo Hurriya!,Pisa,free palestine
END:VEVENT
BEGIN:VEVENT
UID:5569@lapunta.org
SUMMARY:Il sole sorge a Gaza
DTSTAMP:20260420T090025Z
DTSTART:20251124T190000Z
DESCRIPTION:IL SOLE SORGE A GAZA - TRACCIATI DELLA ROTTA AD EST\n\nRacconti
	 e riflessioni sui recenti eventi nel Mediterraneo\, tra f.lotta\,\nflotil
	la\, punti nave e letture della bussola. Un percorso che intreccia\nesperi
	enze di navigazione e solidarietà\, rotte di resistenza e memorie\ncollett
	ive — dal mare come frontiera al mare come spazio di connessione e\nlibert
	à.\n\nOre 20 cena\nOre 21 presentazione\n\nCon Manolo Luppichini (filmmake
	r/mediattivista - ACS / referente Gazaweb e\nMedia)\n\nManolo Luppichini è
	 filmmaker e mediattivista\, referente media per ACS e\ncoordinatore della
	 piattaforma GazaWeb. Dal 1994 lavora come regista di\ndocumentari\, video
	clip e campagne\, dando vita a progetti pionieristici che\nintrecciano nuo
	ve tecnologie\, arte e impegno sociale. Ha lavorato in Europa\,\nStati Uni
	ti\, Africa\, Medio Oriente e Asia meridionale\, collaborando con reti\nin
	dipendenti e realtà internazionali. I suoi lavori sono stati trasmessi su 
	RAI\,\nMediaset\, Fox Life\, Sky\, Al Jazeera e Schweizer Fernsehen (SF).
URL:https://lapunta.org/event/il-sole-sorge-a-gaza
LOCATION:NextEmerson - Via di Bellagio 15\, zona Castello - Firenze
STATUS:CONFIRMED
CATEGORIES:free palestine
X-ALT-DESC;FMTTYPE=text/html:<p><strong>IL SOLE SORGE A GAZA - TRACCIATI DE
	LLA ROTTA AD EST</strong></p><p>Racconti e riflessioni sui recenti eventi 
	nel Mediterraneo, tra f.lotta, flotilla, punti nave e letture della bussol
	a. Un percorso che intreccia esperienze di navigazione e solidarietà, rott
	e di resistenza e memorie collettive — dal mare come frontiera al mare com
	e spazio di connessione e libertà.</p><p>Ore 20 cena<br>Ore 21 presentazio
	ne</p><p>Con&nbsp;<u>Manolo Luppichini (filmmaker/mediattivista - ACS / re
	ferente Gazaweb e Media)</u></p><p>Manolo Luppichini è filmmaker e mediatt
	ivista, referente media per ACS e coordinatore della piattaforma GazaWeb. 
	Dal 1994 lavora come regista di documentari, videoclip e campagne, dando v
	ita a progetti pionieristici che intrecciano nuove tecnologie, arte e impe
	gno sociale. Ha lavorato in Europa, Stati Uniti, Africa, Medio Oriente e A
	sia meridionale, collaborando con reti indipendenti e realtà internazional
	i. I suoi lavori sono stati trasmessi su RAI, Mediaset, Fox Life, Sky, Al 
	Jazeera e Schweizer Fernsehen (SF).</p>
END:VEVENT
BEGIN:VEVENT
UID:5360@lapunta.org
SUMMARY:Dal fiume al mare - Anonima e diffusa
DTSTAMP:20260420T090025Z
DTSTART:20251006T220000Z
DTEND:20251007T210000Z
DESCRIPTION:Il 7 ottobre è stato usato come tentativo di ridurre la lotta p
	er la libertà\ndelle persone palestinesi al rango di tragedia dagli israel
	iani: ricordiamo\ninsieme invece gli oltre 70 anni di occupazioni ed eccid
	i in maniera\ndiffusa.Indossate la kefiah\, issate la bandiera palestinese
	\; organizzate in ogni\ncasa e in ogni luogo pubblico\, momenti di memoria
	 e momenti di gioia per chi\nancora vive e resiste come per chi è morto re
	sistendo.Cortei spontanei\, canti di\ngruppo\, momenti di incontro: se ci 
	vietano cortei e proteste per codardia e\nsottomissione al potere\, allora
	 trasformeremo ogni momento della nostra\ngiornata\, ogni gesto\, in un ri
	cordo per il popolo palestinese.Dal fiume al mare\,\nda nord a sud: non so
	lo Palestina\, ma tutto il Levante libero dall'oppressione e\nprocessati i
	 suoi carnefici! Da Netanyahu a Trump\, dalla Meloni agli AD di\nLeonardo 
	ed Eni.
URL:https://lapunta.org/event/dal-fiume-al-mare-anonima-e-diffusa
LOCATION:vari paesi - cercali sul programma
STATUS:CONFIRMED
CATEGORIES:azione anonima,azione diffusa,free palestine
X-ALT-DESC;FMTTYPE=text/html:Il 7 ottobre è stato usato come tentativo di r
	idurre la lotta per la libertà delle persone palestinesi al rango di trage
	dia dagli israeliani: ricordiamo insieme invece gli oltre 70 anni di occup
	azioni ed eccidi in maniera diffusa.Indossate la kefiah, issate la bandier
	a palestinese; organizzate in ogni casa e in ogni luogo pubblico, momenti 
	di memoria e momenti di gioia per chi ancora vive e resiste come per chi è
	 morto resistendo.Cortei spontanei, canti di gruppo, momenti di incontro: 
	se ci vietano cortei e proteste per codardia e sottomissione al potere, al
	lora trasformeremo ogni momento della nostra giornata, ogni gesto, in un r
	icordo per il popolo palestinese.Dal fiume al mare, da nord a sud: non sol
	o Palestina, ma tutto il Levante libero dall'oppressione e processati i su
	oi carnefici! Da Netanyahu a Trump, dalla Meloni agli AD di Leonardo ed En
	i.
END:VEVENT
END:VCALENDAR
